BEGIN:VCALENDAR
VERSION:2.0
PRODID:-//wp-events-plugin.com//7.0.4//EN
TZID:Europe/Rome
X-WR-TIMEZONE:Europe/Rome
BEGIN:VEVENT
UID:131@milan.eonetwork.it
DTSTART;TZID=Europe/Rome;VALUE=DATE:20220423
DTEND;TZID=Europe/Rome;VALUE=DATE:20220427
DTSTAMP:20220304T104434Z
URL:https://milan.eonetwork.it/en/events/global-leadership-conference-glc-
 2022/
SUMMARY:Global Leadership Conference (GLC) 2022
DESCRIPTION:\nWELCOME\nWe are excited to invite you to the 2022 Global Lea
 dership Conference (GLC)\, from 23 – 26 April 2022!GLC is your moment to
  unleash your potential – as an individual\, an EO member and an entrepr
 eneur.\n\nGlobal Leadership Conference is our flagship event\, showcasing 
 all the best parts of being an EO member – offering the opportunity to f
 orm life-enhancing connections virtually or in-person and share new experi
 ences\, all of which enable transformational growth on both a personal a
 nd professional level.\n\nGLC is an opportunity for EO to come together an
 d unlock the power of community. An opportunity to use our connections to 
 make entrepreneurship a force for good in the world. To unearth how we can
  have greater impact as an organization.\n\nEO members from around the glo
 be will come together to experience our most immersive and thought-provoki
 ng GLC to date. Our hybrid format means you can access GLC virtually via
  our best-in-class online conference platform from wherever you may be\, 
 as well as opportunities to join in-person in Washington\, DC\, USA or Ba
 rcelona\, Spain.\n\nOver the course of five days\, talks\, workshops\, web
 inars and interactive sessions will help us to unleash our full potential
  as individuals and as a collective – to find opportunities\, not chall
 enges\; stepping stones\, not roadblocks.\n\nWe will share more about how 
 you can participate in GLC soon. Mark your calendar to join us at GLC 202
 2.\n\nWe look forward to seeing you at GLC!\n\n\n\n
ATTACH;FMTTYPE=image/jpeg:https://milan.eonetwork.it/wp-content/uploads/20
 22/03/GLC-2022.jpeg
CATEGORIES:EO,EU,Global,Italy
END:VEVENT
BEGIN:VTIMEZONE
TZID:Europe/Rome
X-LIC-LOCATION:Europe/Rome
BEGIN:DAYLIGHT
DTSTART:20220327T030000
TZOFFSETFROM:+0100
TZOFFSETTO:+0200
TZNAME:CEST
END:DAYLIGHT
END:VTIMEZONE
END:VCALENDAR