BEGIN:VCALENDAR
VERSION:2.0
PRODID:-//wp-events-plugin.com//7.0.4//EN
TZID:Europe/Rome
X-WR-TIMEZONE:Europe/Rome
BEGIN:VEVENT
UID:125@milan.eonetwork.it
DTSTART;TZID=Europe/Rome:20220316T093000
DTEND;TZID=Europe/Rome:20220316T101500
DTSTAMP:20220303T144707Z
URL:https://milan.eonetwork.it/en/events/look-before-you-leap-key-lessons-
 for-ma-success/
SUMMARY:"Look before you leap: Key Lessons for M&A success"
DESCRIPTION:\n\n“As entrepreneurs we spend all day\, every day creating v
 alue to achieve our business objectives and personal goals. But when the t
 ime comes that we are no longer the most natural owners of our businesses\
 , how can we ensure that we extract maximum value in an investment or sale
  and purchase exercise?"\n\nJason Ellenport offers key insights for M&amp\
 ;A success in this 30 minute presentation. There will be a 15 minute Q&amp
 \;A session afterwards.\nVenue: Virtual (zoom)\nLocation: Milan\, Italy\
 n16 March 2022 09:30 AM (GMT+01:00) Amsterdam\, Berlin\, Bern\, Rome\, Sto
 ckholm\, Vienna
ATTACH;FMTTYPE=image/jpeg:https://milan.eonetwork.it/wp-content/uploads/20
 22/03/Jason-Ellenport-Zoom-Event-e1646265525370.png
CATEGORIES:EO,Italy
END:VEVENT
BEGIN:VTIMEZONE
TZID:Europe/Rome
X-LIC-LOCATION:Europe/Rome
BEGIN:STANDARD
DTSTART:20211031T020000
TZOFFSETFROM:+0200
TZOFFSETTO:+0100
TZNAME:CET
END:STANDARD
END:VTIMEZONE
END:VCALENDAR