BEGIN:VCALENDAR
VERSION:2.0
PRODID:-//wp-events-plugin.com//7.0.4//EN
TZID:Europe/Rome
X-WR-TIMEZONE:Europe/Rome
BEGIN:VEVENT
UID:123@milan.eonetwork.it
DTSTART;TZID=Europe/Rome:20220228T160000
DTEND;TZID=Europe/Rome:20220228T190000
DTSTAMP:20220303T144544Z
URL:https://milan.eonetwork.it/en/events/revolution-of-industry-4-0/
SUMMARY:Revolution of Industry 4.0
DESCRIPTION:EO Italy has organized an in-person tour at the MADE Competence
  Center I4.0\, Politecnico di Milano (Durando campus). The agenda includes
  an introduction to Industry 4.0\, a visit to the MADE Competence Center I
 4.0 and tour of the labs and technical area. Aperitivo and networking to f
 ollow.
ATTACH;FMTTYPE=image/jpeg:https://milan.eonetwork.it/wp-content/uploads/20
 22/02/The-Revolution-of-Industry-4.0.png
CATEGORIES:EO,Italy
END:VEVENT
BEGIN:VTIMEZONE
TZID:Europe/Rome
X-LIC-LOCATION:Europe/Rome
BEGIN:STANDARD
DTSTART:20211031T020000
TZOFFSETFROM:+0200
TZOFFSETTO:+0100
TZNAME:CET
END:STANDARD
END:VTIMEZONE
END:VCALENDAR