BEGIN:VCALENDAR
VERSION:2.0
PRODID:-//wp-events-plugin.com//7.0.4//EN
TZID:Europe/Rome
X-WR-TIMEZONE:Europe/Rome
BEGIN:VEVENT
UID:133@milan.eonetwork.it
DTSTART;TZID=Europe/Rome:20220503T180000
DTEND;TZID=Europe/Rome:20220503T193000
DTSTAMP:20220426T221938Z
URL:https://milan.eonetwork.it/en/events/transhumanism-long-term-visions/
SUMMARY:Transhumanism: long-term visions
DESCRIPTION:\n\nA presentation by Senior Partner\, Stefano Sutti\, designed
  to inspire and provoke reflections in entrepreneurs with long-term techno
 logical\, economic and social scenarios.\n\nMay 3\, 2022\n\n18:00 - 19:30 
 Presentation/sharing.\nVenue: NH Milano Touring- Via Ugo Tarchetti\, 2 Mil
 an\n\nDinner (optional) to follow at Cantina Piemontese\, Milan\n(attendin
 g member and guests to pay for their own dinners)\n\nStefano Sutti is a Se
 nior Partner at Studio Legale Sutti\, Law Professor at Università Statale
  di Milano\, Commercial Litigation and Arbitration Lawyer of the Year 2021
  for Italy (Global 100).\n\nPresentation in English.
ATTACH;FMTTYPE=image/jpeg:https://milan.eonetwork.it/wp-content/uploads/20
 22/04/Transhumanism-long-term-visions.jpeg
CATEGORIES:Italy
END:VEVENT
BEGIN:VTIMEZONE
TZID:Europe/Rome
X-LIC-LOCATION:Europe/Rome
BEGIN:DAYLIGHT
DTSTART:20220327T030000
TZOFFSETFROM:+0100
TZOFFSETTO:+0200
TZNAME:CEST
END:DAYLIGHT
END:VTIMEZONE
END:VCALENDAR