BEGIN:VCALENDAR
VERSION:2.0
PRODID:-//wp-events-plugin.com//7.0.4//EN
TZID:Europe/Rome
X-WR-TIMEZONE:Europe/Rome
BEGIN:VEVENT
UID:130@milan.eonetwork.it
DTSTART;TZID=Europe/Rome;VALUE=DATE:20220523
DTEND;TZID=Europe/Rome;VALUE=DATE:20220529
DTSTAMP:20220303T171859Z
URL:https://milan.eonetwork.it/events/2022-eo-italy-exploration-firenze-e-
 roma/
SUMMARY:2022 Esplorazione EO Italia - Firenze e Roma
DESCRIPTION:Punti salienti dell'esplorazione di Firenze e Roma:\nIntraprend
 i un viaggio esperienziale partendo da Firenze alla scoperta dell'arte art
 igianale nell'autentica tradizione del “Made in Italy” e di grandi mar
 chi come Ferragamo e Gucci Garden.\nSenti la scarica di adrenalina mentre 
 partecipi a una gara di dragon boat sulle rive del fiume Arno\, con vista 
 sul Ponte Vecchio\nGoditi un'autentica degustazione di vini nella regione 
 del Chianti\nViaggio a Roma\, La Città Eterna\, per concludere il program
 ma Exploration con un soggiorno di due notti al Rome Cavalieri\, A Waldorf
  Astoria Hotel.\nGiorno 1: Benvenuti a Firenze\nInizieremo l'Esplorazione 
 con un incontro pomeridiano di benvenuto\, ammirando lo skyline fiorentino
  direttamente dalla terrazza panoramica sul tetto del Grand Hotel Baglioni
  di Firenze. Dopo un cocktail\, ci dirigeremo direttamente in centro citt
 à\, passando per il Ponte Vecchio per un'attività speciale. L'amore di E
 Oer una piccola competizione amichevole! La prima compagnia di voga fioren
 tina aprirà i battenti in esclusiva a EO per una gara di dragon boat sull
 'Arno. Goditi un cocktail sulle rive del fiume sorseggiando un aperitivo i
 taliano prima del tramonto. Dopo il cocktail\, ci dirigeremo verso una cen
 a di gruppo per gustare la cucina classica toscana in un ristorante storic
 o.\n\n&nbsp\;\n\n\nPhoto courtesy of Società Canottieri Firenze\nGiorno 2
 : Incontra i protagonisti del “Made in Italy” (a Firenze)\nInizia la g
 iornata per conoscere la bellezza dei monumenti e degli angoli nascosti de
 lla città con un tour a piedi facoltativo all'alba. Dopo colazione\, visi
 terai una scelta di autentici laboratori fiorentini: mosaico\, tessuto\, m
 armo e carta\, dove esperti artigiani creano prodotti unici e durevoli bas
 ati su generazioni di pratiche tradizionali. Nel pomeriggio\, incontra alc
 uni dei grandi marchi del "Made in Italy" - come il Museo Ferragamo\, il M
 useo del Giardino Gucci o l'antica Fabbrica della Seta Fiorentina. Questa 
 sera\, ci divideremo in gruppi più piccoli e ceneremo in Oltrarno\, dove 
 cenano i locali\, per assaporare l'autentica cucina fiorentina.\n\n\n\n&nb
 sp\;\n\n\nPhoto courtesy of Florentine Silk Factory\nGiorno 3: Chianti –
  Degustazione di vini e imprenditorialità (a Firenze)\nIn quest'ultimo gi
 orno a Firenze\, vi aspettano attività mattutine facoltative con la vostr
 a scelta di fare jogging all'alba con un personal trainer o una pratica di
  yoga sulla terrazza panoramica dell'hotel. La mattinata sarà tua per esp
 lorare Firenze come desideri: fare shopping\, visitare un museo o il Duomo
 \, una delle chiese storiche della città. Partiremo in gruppo per la regi
 one del Chianti e ci godremo un pranzo all'aperto e del tempo libero esplo
 rando Greve. Brinderemo al nostro tempo a Firenze con una cena di chiusura
  in un'azienda vinicola con una ricca tradizione vinicola\, nel cuore del 
 Chianti Classico\, incastonata tra Firenze e Siena.\n\n\n\n&nbsp\;\n\n\nPh
 oto courtesy of Castello di Verrazzano\, Greve in Chianti\nGiorno 4: Tutte
  le strade portano a Roma\nFaremo il check-out del Grand Hotel Baglioni po
 iché i nostri prossimi due giorni saranno trascorsi a Roma. Partiremo da 
 Firenze con il treno ad alta velocità dopo la colazione\, dove ci uniremo
  al gruppo di viaggio di Venezia a bordo e insieme arriveremo a Roma\, la 
 Città Eterna. Le prossime due notti saranno trascorse al Rome Cavalieri\,
  A Waldorf Astoria Hotel. Goditi un pranzo all'aperto all'arrivo e prendit
 i del tempo per rilassarti e sistemarti nella tua camera. Prima di cena\, 
 ci incontreremo per un cocktail di benvenuto e andremo fuori proprietà pe
 r una cena sul tetto nel centro di Roma\, con vista sul Foro Romano e altr
 i pittoreschi monumenti della città.\n\n\n\n&nbsp\;\n\n\nPhoto courtesy o
 f Simone Antonazzo\, Open Library ENIT\, https://openlib.enit.it/\nGiorno
  5: Scopri la bellezza di Roma\nIn quest'ultimo giorno dell'Esplorazione\,
  potrai scegliere tra attività di gruppo e pranzo\, che si tratti dell'an
 tica Roma sotterranea\, una visita alle ville pontificie e ai loro giardin
 i (la residenza estiva del Papa)\, una visita al Vaticano e altro ancora! 
 L'Esplorazione si concluderà nel pomeriggio dopo pranzo. Puoi quindi deci
 dere di tornare al Waldorf Astoria per goderti la piscina all'aperto o pas
 seggiare per il centro città per visitare siti come la Fontana di Trevi\,
  Piazza di Spagna e altri. Questa sera verranno organizzate cene MyEO opzi
 onali.\n\n\n
ATTACH;FMTTYPE=image/jpeg:https://milan.eonetwork.it/wp-content/uploads/20
 22/03/florence-rome.jpeg
CATEGORIES:EO,EU,Global,Italy
END:VEVENT
BEGIN:VTIMEZONE
TZID:Europe/Rome
X-LIC-LOCATION:Europe/Rome
BEGIN:DAYLIGHT
DTSTART:20220327T030000
TZOFFSETFROM:+0100
TZOFFSETTO:+0200
TZNAME:CEST
END:DAYLIGHT
END:VTIMEZONE
END:VCALENDAR