BEGIN:VCALENDAR
VERSION:2.0
PRODID:-//wp-events-plugin.com//7.0.4//EN
TZID:Europe/Rome
X-WR-TIMEZONE:Europe/Rome
BEGIN:VEVENT
UID:42@milan.eonetwork.it
DTSTART;TZID=Europe/Rome:20200421T100000
DTEND;TZID=Europe/Rome:20200421T110000
DTSTAMP:20200401T221537Z
URL:https://milan.eonetwork.it/events/creating-sustainable-success-scenari
 o-planning-for-coronavirus-future-disruptions/
SUMMARY:Creating Sustainable Success: Scenario Planning for Coronavirus & F
 uture Disruptions
DESCRIPTION:We will outline a strategic thinking method for innovation and 
 risk mitigation – for both this viral disruption and the beyond-tomorrow
  trends (as well as what we can learn from the prepper community\, when it
  comes to dealing with systemic risk…)\n\nIn this session\, you’ll lea
 rn:\nCreate alternative future worlds so that you can withstand the curren
 t Corona and future shock(s)\nIdentify the most disruptive sociocultural\,
  technological\, economic\, environmental and political (STEEP factor) dri
 vers of change including how to respond to Coronavirus and its business im
 pacts in the near and long term future\nHow to respond calmly and effectiv
 ely and use the current climate for innovation and resilience\n
ATTACH;FMTTYPE=image/jpeg:https://milan.eonetwork.it/wp-content/uploads/20
 20/04/Anders-300x300-1.jpg
CATEGORIES:Global
END:VEVENT
BEGIN:VTIMEZONE
TZID:Europe/Rome
X-LIC-LOCATION:Europe/Rome
BEGIN:DAYLIGHT
DTSTART:20200329T030000
TZOFFSETFROM:+0100
TZOFFSETTO:+0200
TZNAME:CEST
END:DAYLIGHT
END:VTIMEZONE
END:VCALENDAR