BEGIN:VCALENDAR
VERSION:2.0
PRODID:-//wp-events-plugin.com//7.0.4//EN
TZID:Europe/Rome
X-WR-TIMEZONE:Europe/Rome
BEGIN:VEVENT
UID:46@milan.eonetwork.it
DTSTART:20200402T100000Z
DTEND:20200402T110000Z
DTSTAMP:20200401T220237Z
URL:https://milan.eonetwork.it/events/cybersecurity-awareness-and-good-pra
 ctice/
SUMMARY:Cybersecurity: Awareness and Good Practice
DESCRIPTION:Join us for a session of cybersecurity with expert Izak Oosthui
 zen sharing best practices and James Rix sharing his experience within his
  company.\n– The Ugly Truth\n– How To Know When You Are Hacked\n– Wh
 at To Do During A Hack\n– Top Survival Tips\n– Password Management\n
 – Free Tools
ATTACH;FMTTYPE=image/jpeg:https://milan.eonetwork.it/wp-content/uploads/20
 20/04/6b1649b5-2674-ea11-9456-005056aa3141.png
CATEGORIES:EU
END:VEVENT
END:VCALENDAR