BEGIN:VCALENDAR
VERSION:2.0
PRODID:-//wp-events-plugin.com//7.0.4//EN
TZID:Europe/Rome
X-WR-TIMEZONE:Europe/Rome
BEGIN:VEVENT
UID:38@milan.eonetwork.it
DTSTART:20200406T120000Z
DTEND:20200406T230000Z
DTSTAMP:20200401T220737Z
URL:https://milan.eonetwork.it/events/eo-in-partnership-with-outthinker/
SUMMARY:EO In partnership with OUTTHINKER
DESCRIPTION:In partnership with OUTTHINKER we are pleased to offer this eve
 nt for FREE for our EO Community: members\, accelerators and GSEA particip
 ants. PLEASE visit the site for more information on the speakers and times
  of their sessions: HERE\n\nA unique opportunity to interact with the worl
 d’s foremost business thinkers from the comfort of your couch.\n\nYou wi
 ll receive an email with zoom codes for all of the sessions\, this link wi
 ll be unique to you\, please do not share.\n\n
ATTACH;FMTTYPE=image/jpeg:https://milan.eonetwork.it/wp-content/uploads/20
 20/04/Out-1-300x134-1.jpg
CATEGORIES:Global
END:VEVENT
END:VCALENDAR