BEGIN:VCALENDAR
VERSION:2.0
PRODID:-//wp-events-plugin.com//7.0.4//EN
TZID:Europe/Rome
X-WR-TIMEZONE:Europe/Rome
BEGIN:VEVENT
UID:50@milan.eonetwork.it
DTSTART:20200406T120000Z
DTEND:20200406T120000Z
DTSTAMP:20200401T215925Z
URL:https://milan.eonetwork.it/events/eo-industry-talks-insights-into-tick
 et-sales-entertainment-events-with-qa/
SUMMARY:EO Industry Talks - Insights into Ticket Sales (Entertainment\, Eve
 nts) with Q&A
DESCRIPTION:EO members from the regions most affected by COVID-19 (Greg Cha
 rlton - EO Shanghai & Du Tianji - EO Hainan) are sharing their experiences
  / advice in relation to the ticket sales / events industry as they emerge
  from the crisis. 
ATTACH;FMTTYPE=image/jpeg:https://milan.eonetwork.it/wp-content/uploads/20
 20/04/Screenshot-2020-04-01-23.11.44.png
CATEGORIES:EU
END:VEVENT
END:VCALENDAR