BEGIN:VCALENDAR
VERSION:2.0
PRODID:-//wp-events-plugin.com//7.0.4//EN
TZID:Europe/Rome
X-WR-TIMEZONE:Europe/Rome
BEGIN:VEVENT
UID:40@milan.eonetwork.it
DTSTART;TZID=Europe/Rome:20200414T180000
DTEND;TZID=Europe/Rome:20200414T190000
DTSTAMP:20200401T221325Z
URL:https://milan.eonetwork.it/events/how-to-still-like-each-other-during-
 after-the-quarantine/
SUMMARY:How to still like each other during & after the quarantine
DESCRIPTION:Are you suddenly finding yourself working from home AND around 
 your partner all time (don´t even get us started on the kids being home t
 oo)! Forced Family Fun (aka Quarantine) can be stressful and it can also h
 elp us redesign what life looks like with our family.\n\nThe problem is ho
 w do we do that when our businesses are spinning\, our kids are squawking 
 during conference calls and we feel like there is no end in sight?\n\nIn t
 his 60-minute interactive session\, learn from entrepreneurial couple Chel
 sea and Ryan Avery\, and discover the strategies they use to manage their 
 family and run their businesses together from home for the past eight year
 s. It hasn´t always been easy but it also hasn´t been quarantine-level u
 ntil recently. Rooted with the same core values but contrasting personalit
 ies merged with polar opposite upbringings\, Chelsea and Ryan learned hard
  lessons at the start of their business that grey them into the life partn
 ers and business partners they  are today.\n\nIn this session\, you’ll l
 earn:\n– Strategies to balance family duties with business responsibilit
 ies while working from home during a freakin´ global pandemic\n\n– Tang
 ible ways to increase connection and decrease stress when your relationshi
 ps are not built on being together 24/7\n\n–  Identifying what annoys yo
 u about your partner and turning it into something you love about them\n\n
 – How to remain positive as a family during turbulent times while managi
 ng all the complexities of unforeseen challenges that face our current and
  future business\n\n
ATTACH;FMTTYPE=image/jpeg:https://milan.eonetwork.it/wp-content/uploads/20
 20/04/TheAverys-300x300-1.jpg
CATEGORIES:Global
END:VEVENT
BEGIN:VTIMEZONE
TZID:Europe/Rome
X-LIC-LOCATION:Europe/Rome
BEGIN:DAYLIGHT
DTSTART:20200329T030000
TZOFFSETFROM:+0100
TZOFFSETTO:+0200
TZNAME:CEST
END:DAYLIGHT
END:VTIMEZONE
END:VCALENDAR