BEGIN:VCALENDAR
VERSION:2.0
PRODID:-//wp-events-plugin.com//7.0.4//EN
TZID:Europe/Rome
X-WR-TIMEZONE:Europe/Rome
BEGIN:VEVENT
UID:59@milan.eonetwork.it
DTSTART;TZID=Europe/Rome:20200624T100000
DTEND;TZID=Europe/Rome:20200624T110000
DTSTAMP:20200601T213638Z
URL:https://milan.eonetwork.it/events/innovating-through-crisis-with-lynda
 -applegate/
SUMMARY:Innovating Through Crisis with Lynda Applegate
DESCRIPTION:History has shown us that times of great challenge can also be 
 breeding grounds for innovation and new opportunities. Join this interacti
 ve session with esteemed Harvard Professor\, Lynda Applegate\, as she shar
 es her current research focusing on the innovation taking place before\, d
 uring\, and after COVID-19. Come prepared to lean in and engage as there w
 ill be interactive components to this session that we hope will help you i
 nnovate in new ways during this unprecedented time.
ATTACH;FMTTYPE=image/jpeg:https://milan.eonetwork.it/wp-content/uploads/20
 20/06/Lynda-Applegate.jpg
CATEGORIES:EU
END:VEVENT
BEGIN:VTIMEZONE
TZID:Europe/Rome
X-LIC-LOCATION:Europe/Rome
BEGIN:DAYLIGHT
DTSTART:20200329T030000
TZOFFSETFROM:+0100
TZOFFSETTO:+0200
TZNAME:CEST
END:DAYLIGHT
END:VTIMEZONE
END:VCALENDAR