BEGIN:VCALENDAR
VERSION:2.0
PRODID:-//wp-events-plugin.com//7.0.4//EN
TZID:Europe/Rome
X-WR-TIMEZONE:Europe/Rome
BEGIN:VEVENT
UID:48@milan.eonetwork.it
DTSTART:20200403T140000Z
DTEND:20200403T140000Z
DTSTAMP:20200401T215407Z
URL:https://milan.eonetwork.it/events/partner-kids-at-home-insights-from-t
 wo-years-of-self-isolation/
SUMMARY:Partner/Kids At-Home Insights From Two Years of Self-Isolation
DESCRIPTION:Stressed out by working from home with kids in the house? Caspa
 r Craven can help. The entrepreneur and motivational speaker spent 2 years
  “self isolating”\, sailing around the world in a tiny boat with three
  children\, aged nine seven and two\, all while working.
CATEGORIES:EU
END:VEVENT
END:VCALENDAR