BEGIN:VCALENDAR
VERSION:2.0
PRODID:-//wp-events-plugin.com//7.0.4//EN
TZID:Europe/Rome
X-WR-TIMEZONE:Europe/Rome
BEGIN:VEVENT
UID:39@milan.eonetwork.it
DTSTART:20200409T080000Z
DTEND:20200409T090000Z
DTSTAMP:20200401T220829Z
URL:https://milan.eonetwork.it/events/the-new-intelligence-for-the-human-a
 ge/
SUMMARY:The New Intelligence For The Human Age
DESCRIPTION:COVID-19 is spreading exponentially\, workforces have been sent
  home\, physical distancing and self-isolation are the new norm and school
 s out. Welcome to the reality of being a entrepreneur in 2020. Partner thi
 s complexity with a society that was already feeling burnt out\, anxious a
 nd humanly disconnected and you have the platform for a perfect storm.  Wh
 ilst the immediate priority is focused on flattening the curve\, the long-
 term critical priority is maintaining the mental health of our society so 
 that those who survive have the ability to thrive.\n\nWe find ourselves at
  a forced moment of inflection. Mother nature has sent us to our metaphori
 c rooms and given us time out. Time out to rethink the future of humanity 
 and the role we have in shaping it.\n\nWelcome to the human age! A place w
 here those who put humans first and prioritise the mental health of our so
 ciety will reap the rewards long term. But how?\n\nIt’s time to cultivat
 e a new intelligence an intelligence that enables humans to cease reacting
  and start intentionally adapting.\n\nIn this session\, you’ll learn:\nW
 hat it means to be human and why it matters more than ever\nA framework fo
 r amplifying the human skills required to navigate and unprecedented time 
 so that we can not only survive but thrive\n
ATTACH;FMTTYPE=image/jpeg:https://milan.eonetwork.it/wp-content/uploads/20
 20/04/Penny-l-300x300-1.jpg
CATEGORIES:Global
END:VEVENT
END:VCALENDAR