BEGIN:VCALENDAR
VERSION:2.0
PRODID:-//wp-events-plugin.com//7.0.4//EN
TZID:Europe/Rome
X-WR-TIMEZONE:Europe/Rome
BEGIN:VEVENT
UID:44@milan.eonetwork.it
DTSTART;TZID=Europe/Rome:20200428T180000
DTEND;TZID=Europe/Rome:20200428T190000
DTSTAMP:20200401T221458Z
URL:https://milan.eonetwork.it/events/top-3-secrets-from-decision-science-
 for-leading-in-uncertain-times/
SUMMARY:Top 3 Secrets from Decision Science for Leading in Uncertain Times
DESCRIPTION:“What?  I never knew there was a science to making good decis
 ions!”  There is.  It can help you during a global pandemic\, and any ot
 her time you can’t see into the future.\n\nA real decision requires acti
 on.  Figuring out which action is “right” can be overwhelming\, especi
 ally in complex\, ambiguous\, and changing situations.  That can lead to i
 naction and misaction\, which cause decreased revenues\, results\, and rel
 ationships.\n\nThe Decision Skills Institute helps business leaders overco
 me and avoid all of that.  We took 50 years of cutting-edge research\, app
 lied for decades at global corporations\, and created a framework that emp
 owers individuals to consistently make better decisions\, leading to bette
 r results\, faster.\n\nIn this session\, you’ll learn:\nhow to distingui
 sh between good and bad decisions before you make them\nwhat you should do
  before collecting or analyzing any data for a choice\nhow to turn burdens
  into opportunities by making good decisions quickly\n
ATTACH;FMTTYPE=image/jpeg:https://milan.eonetwork.it/wp-content/uploads/20
 20/04/tYLER-L-1-300x300-1.jpg
CATEGORIES:Global
END:VEVENT
BEGIN:VTIMEZONE
TZID:Europe/Rome
X-LIC-LOCATION:Europe/Rome
BEGIN:DAYLIGHT
DTSTART:20200329T030000
TZOFFSETFROM:+0100
TZOFFSETTO:+0200
TZNAME:CEST
END:DAYLIGHT
END:VTIMEZONE
END:VCALENDAR